Package: coMethDMR Version: 1.11.0 Command: chmod a+r coMethDMR -R && E:\biocbuild\bbs-3.21-bioc\R\bin\R.exe CMD build --keep-empty-dirs --no-resave-data coMethDMR StartedAt: 2025-02-19 18:01:03 -0500 (Wed, 19 Feb 2025) EndedAt: 2025-02-19 18:08:15 -0500 (Wed, 19 Feb 2025) EllapsedTime: 432.7 seconds RetCode: 0 Status: OK PackageFile: coMethDMR_1.11.0.tar.gz PackageFileSize: 3.073 MiB