Package: coMethDMR Version: 1.11.0 Command: /home/biocbuild/bbs-3.21-bioc/R/bin/R CMD INSTALL coMethDMR StartedAt: 2025-02-18 15:41:30 -0500 (Tue, 18 Feb 2025) EndedAt: 2025-02-18 15:42:14 -0500 (Tue, 18 Feb 2025) EllapsedTime: 44.3 seconds RetCode: 0 Status: OK