Package: coMethDMR Version: 1.11.0 Command: /Library/Frameworks/R.framework/Resources/bin/R CMD INSTALL coMethDMR StartedAt: 2025-02-19 15:13:05 -0500 (Wed, 19 Feb 2025) EndedAt: 2025-02-19 15:13:26 -0500 (Wed, 19 Feb 2025) EllapsedTime: 20.5 seconds RetCode: 0 Status: OK