Package: coMET Version: 1.39.0 Command: E:\biocbuild\bbs-3.21-bioc\R\bin\R.exe CMD INSTALL coMET StartedAt: 2025-02-20 16:36:49 -0500 (Thu, 20 Feb 2025) EndedAt: 2025-02-20 16:38:42 -0500 (Thu, 20 Feb 2025) EllapsedTime: 112.7 seconds RetCode: 0 Status: OK