Package: coMET Version: 1.39.0 Command: E:\biocbuild\bbs-3.21-bioc\R\bin\R.exe CMD check --no-multiarch --install=check:coMET.install-out.txt --library=E:\biocbuild\bbs-3.21-bioc\R\library --no-vignettes --timings coMET_1.39.0.tar.gz StartedAt: 2025-02-21 00:03:24 -0500 (Fri, 21 Feb 2025) EndedAt: 2025-02-21 00:12:49 -0500 (Fri, 21 Feb 2025) EllapsedTime: 564.8 seconds RetCode: 1 Status: ERROR CheckDir: coMET.Rcheck Warnings: NA