Package: coMET Version: 1.39.0 Command: rm -rf coMET.buildbin-libdir && mkdir coMET.buildbin-libdir && E:\biocbuild\bbs-3.21-bioc\R\bin\R.exe CMD INSTALL --build --library=coMET.buildbin-libdir coMET_1.39.0.tar.gz StartedAt: 2025-02-21 07:50:37 -0500 (Fri, 21 Feb 2025) EndedAt: 2025-02-21 07:52:11 -0500 (Fri, 21 Feb 2025) EllapsedTime: 93.3 seconds RetCode: 0 Status: OK PackageFile: coMET_1.39.0.zip PackageFileSize: 21.81 MiB