Package: coMET Version: 1.39.0 Command: /Library/Frameworks/R.framework/Resources/bin/R CMD check --install=check:coMET.install-out.txt --library=/Library/Frameworks/R.framework/Resources/library --no-vignettes --timings coMET_1.39.0.tar.gz StartedAt: 2025-02-20 19:37:28 -0500 (Thu, 20 Feb 2025) EndedAt: 2025-02-20 19:46:38 -0500 (Thu, 20 Feb 2025) EllapsedTime: 549.6 seconds RetCode: 1 Status: ERROR CheckDir: coMET.Rcheck Warnings: NA