Package: coMET Version: 1.39.0 Command: /Library/Frameworks/R.framework/Resources/bin/R CMD INSTALL coMET StartedAt: 2025-02-20 15:16:58 -0500 (Thu, 20 Feb 2025) EndedAt: 2025-02-20 15:17:20 -0500 (Thu, 20 Feb 2025) EllapsedTime: 22.2 seconds RetCode: 0 Status: OK