Package: coMET Version: 1.39.0 Command: /Library/Frameworks/R.framework/Resources/bin/R CMD build --keep-empty-dirs --no-resave-data coMET StartedAt: 2025-02-20 15:58:11 -0500 (Thu, 20 Feb 2025) EndedAt: 2025-02-20 15:59:32 -0500 (Thu, 20 Feb 2025) EllapsedTime: 80.9 seconds RetCode: 0 Status: OK PackageFile: coMET_1.39.0.tar.gz PackageFileSize: 21.83 MiB