Package: coGPS Version: 1.51.0 Command: E:\biocbuild\bbs-3.21-bioc\R\bin\R.exe CMD INSTALL coGPS StartedAt: 2025-02-19 15:20:56 -0500 (Wed, 19 Feb 2025) EndedAt: 2025-02-19 15:21:04 -0500 (Wed, 19 Feb 2025) EllapsedTime: 7.4 seconds RetCode: 0 Status: OK