Package: coGPS Version: 1.51.0 Command: chmod a+r coGPS -R && E:\biocbuild\bbs-3.21-bioc\R\bin\R.exe CMD build --keep-empty-dirs --no-resave-data coGPS StartedAt: 2025-02-18 17:58:45 -0500 (Tue, 18 Feb 2025) EndedAt: 2025-02-18 17:59:14 -0500 (Tue, 18 Feb 2025) EllapsedTime: 28.9 seconds RetCode: 0 Status: OK PackageFile: coGPS_1.51.0.tar.gz PackageFileSize: 1.641 MiB