Package: coGPS Version: 1.51.0 Command: /Library/Frameworks/R.framework/Resources/bin/R CMD check --install=check:coGPS.install-out.txt --library=/Library/Frameworks/R.framework/Resources/library --no-vignettes --timings coGPS_1.51.0.tar.gz StartedAt: 2025-02-17 19:34:29 -0500 (Mon, 17 Feb 2025) EndedAt: 2025-02-17 19:35:02 -0500 (Mon, 17 Feb 2025) EllapsedTime: 33.2 seconds RetCode: 0 Status: OK CheckDir: coGPS.Rcheck Warnings: 0