Package: coGPS Version: 1.51.0 Command: rm -rf coGPS.buildbin-libdir && mkdir coGPS.buildbin-libdir && /Users/biocbuild/BBS/utils/build-universal.sh coGPS_1.51.0.tar.gz /Library/Frameworks/R.framework/Resources/bin/R coGPS.buildbin-libdir StartedAt: 2025-02-18 00:19:22 -0500 (Tue, 18 Feb 2025) EndedAt: 2025-02-18 00:19:26 -0500 (Tue, 18 Feb 2025) EllapsedTime: 4.6 seconds RetCode: 0 Status: OK PackageFile: coGPS_1.51.0.tgz PackageFileSize: 1.788 MiB