Package: coGPS Version: 1.51.0 Command: /Library/Frameworks/R.framework/Resources/bin/R CMD INSTALL coGPS StartedAt: 2025-02-17 15:01:32 -0500 (Mon, 17 Feb 2025) EndedAt: 2025-02-17 15:01:38 -0500 (Mon, 17 Feb 2025) EllapsedTime: 5.3 seconds RetCode: 0 Status: OK