Package: cnvGSA Version: 1.51.0 Command: /home/biocbuild/bbs-3.21-bioc/R/bin/R CMD INSTALL cnvGSA StartedAt: 2025-02-18 15:13:20 -0500 (Tue, 18 Feb 2025) EndedAt: 2025-02-18 15:13:30 -0500 (Tue, 18 Feb 2025) EllapsedTime: 9.9 seconds RetCode: 0 Status: OK