Package: cnvGSA Version: 1.51.0 Command: /Library/Frameworks/R.framework/Resources/bin/R CMD INSTALL cnvGSA StartedAt: 2025-02-18 15:04:25 -0500 (Tue, 18 Feb 2025) EndedAt: 2025-02-18 15:04:30 -0500 (Tue, 18 Feb 2025) EllapsedTime: 4.2 seconds RetCode: 0 Status: OK