Package: cn.mops Version: 1.53.0 Command: /Library/Frameworks/R.framework/Resources/bin/R CMD INSTALL cn.mops StartedAt: 2025-02-20 15:09:50 -0500 (Thu, 20 Feb 2025) EndedAt: 2025-02-20 15:09:57 -0500 (Thu, 20 Feb 2025) EllapsedTime: 6.9 seconds RetCode: 0 Status: OK