Package: cn.mops Version: 1.53.0 Command: /Library/Frameworks/R.framework/Resources/bin/R CMD check --install=check:cn.mops.install-out.txt --library=/Library/Frameworks/R.framework/Resources/library --no-vignettes --timings cn.mops_1.53.0.tar.gz StartedAt: 2025-02-20 18:35:10 -0500 (Thu, 20 Feb 2025) EndedAt: 2025-02-20 18:36:18 -0500 (Thu, 20 Feb 2025) EllapsedTime: 68.9 seconds RetCode: 0 Status: OK CheckDir: cn.mops.Rcheck Warnings: 0