Package: cn.farms Version: 1.55.0 Command: E:\biocbuild\bbs-3.21-bioc\R\bin\R.exe CMD INSTALL cn.farms StartedAt: 2025-02-17 16:27:37 -0500 (Mon, 17 Feb 2025) EndedAt: 2025-02-17 16:27:41 -0500 (Mon, 17 Feb 2025) EllapsedTime: 3.9 seconds RetCode: 1 Status: ERROR