Package: cn.farms Version: 1.55.0 Command: /Library/Frameworks/R.framework/Resources/bin/R CMD INSTALL cn.farms StartedAt: 2025-02-17 15:16:05 -0500 (Mon, 17 Feb 2025) EndedAt: 2025-02-17 15:16:13 -0500 (Mon, 17 Feb 2025) EllapsedTime: 8.6 seconds RetCode: 1 Status: ERROR