Package: cn.farms Version: 1.55.0 Command: /Library/Frameworks/R.framework/Resources/bin/R CMD build --keep-empty-dirs --no-resave-data cn.farms StartedAt: 2025-02-17 16:15:58 -0500 (Mon, 17 Feb 2025) EndedAt: 2025-02-17 16:16:00 -0500 (Mon, 17 Feb 2025) EllapsedTime: 2.3 seconds RetCode: 1 Status: ERROR PackageFile: None PackageFileSize: NA