Package: cn.farms Version: 1.55.0 Command: /Library/Frameworks/R.framework/Resources/bin/R CMD INSTALL cn.farms StartedAt: 2025-02-17 15:10:07 -0500 (Mon, 17 Feb 2025) EndedAt: 2025-02-17 15:10:08 -0500 (Mon, 17 Feb 2025) EllapsedTime: 1.0 seconds RetCode: 1 Status: ERROR