Package: cmapR Version: 1.19.0 Command: E:\biocbuild\bbs-3.21-bioc\R\bin\R.exe CMD check --no-multiarch --install=check:cmapR.install-out.txt --library=E:\biocbuild\bbs-3.21-bioc\R\library --no-vignettes --timings cmapR_1.19.0.tar.gz StartedAt: 2025-02-17 23:36:31 -0500 (Mon, 17 Feb 2025) EndedAt: 2025-02-17 23:40:11 -0500 (Mon, 17 Feb 2025) EllapsedTime: 219.4 seconds RetCode: 0 Status: OK CheckDir: cmapR.Rcheck Warnings: 0