Package: cmapR Version: 1.19.0 Command: /Library/Frameworks/R.framework/Resources/bin/R CMD INSTALL cmapR StartedAt: 2025-02-17 15:12:08 -0500 (Mon, 17 Feb 2025) EndedAt: 2025-02-17 15:12:46 -0500 (Mon, 17 Feb 2025) EllapsedTime: 37.2 seconds RetCode: 0 Status: OK