Package: cmapR Version: 1.19.0 Command: rm -rf cmapR.buildbin-libdir && mkdir cmapR.buildbin-libdir && /Users/biocbuild/BBS/utils/build-universal.sh cmapR_1.19.0.tar.gz /Library/Frameworks/R.framework/Resources/bin/R cmapR.buildbin-libdir StartedAt: 2025-02-18 00:18:53 -0500 (Tue, 18 Feb 2025) EndedAt: 2025-02-18 00:19:31 -0500 (Tue, 18 Feb 2025) EllapsedTime: 38.3 seconds RetCode: 0 Status: OK PackageFile: cmapR_1.19.0.tgz PackageFileSize: 3.96 MiB