Package: cmapR Version: 1.19.0 Command: /Library/Frameworks/R.framework/Resources/bin/R CMD check --install=check:cmapR.install-out.txt --library=/Library/Frameworks/R.framework/Resources/library --no-vignettes --timings cmapR_1.19.0.tar.gz StartedAt: 2025-02-17 18:34:02 -0500 (Mon, 17 Feb 2025) EndedAt: 2025-02-17 18:35:15 -0500 (Mon, 17 Feb 2025) EllapsedTime: 72.9 seconds RetCode: 0 Status: OK CheckDir: cmapR.Rcheck Warnings: 0