Package: clustifyr Version: 1.19.0 Command: E:\biocbuild\bbs-3.21-bioc\R\bin\R.exe CMD INSTALL clustifyr StartedAt: 2025-02-18 16:12:15 -0500 (Tue, 18 Feb 2025) EndedAt: 2025-02-18 16:13:11 -0500 (Tue, 18 Feb 2025) EllapsedTime: 56.2 seconds RetCode: 0 Status: OK