Package: clustifyr Version: 1.19.0 Command: /Library/Frameworks/R.framework/Resources/bin/R CMD INSTALL clustifyr StartedAt: 2025-02-19 15:31:09 -0500 (Wed, 19 Feb 2025) EndedAt: 2025-02-19 15:31:51 -0500 (Wed, 19 Feb 2025) EllapsedTime: 42.4 seconds RetCode: 0 Status: OK