Package: clustifyr Version: 1.19.0 Command: rm -rf clustifyr.buildbin-libdir && mkdir clustifyr.buildbin-libdir && /Users/biocbuild/BBS/utils/build-universal.sh clustifyr_1.19.0.tar.gz /Library/Frameworks/R.framework/Resources/bin/R clustifyr.buildbin-libdir StartedAt: 2025-02-19 00:18:53 -0500 (Wed, 19 Feb 2025) EndedAt: 2025-02-19 00:19:39 -0500 (Wed, 19 Feb 2025) EllapsedTime: 46.3 seconds RetCode: 0 Status: OK PackageFile: clustifyr_1.19.0.tgz PackageFileSize: 3.993 MiB