Package: clustifyr Version: 1.19.0 Command: /Library/Frameworks/R.framework/Resources/bin/R CMD check --install=check:clustifyr.install-out.txt --library=/Library/Frameworks/R.framework/Resources/library --no-vignettes --timings clustifyr_1.19.0.tar.gz StartedAt: 2025-02-18 18:37:02 -0500 (Tue, 18 Feb 2025) EndedAt: 2025-02-18 18:41:50 -0500 (Tue, 18 Feb 2025) EllapsedTime: 288.6 seconds RetCode: 0 Status: OK CheckDir: clustifyr.Rcheck Warnings: 0