Package: clustifyr Version: 1.20.0 Command: /Library/Frameworks/R.framework/Resources/bin/R CMD build --keep-empty-dirs --no-resave-data clustifyr StartedAt: 2025-10-09 21:43:49 -0400 (Thu, 09 Oct 2025) EndedAt: 2025-10-09 21:45:01 -0400 (Thu, 09 Oct 2025) EllapsedTime: 71.6 seconds RetCode: 0 Status: OK PackageFile: clustifyr_1.20.0.tar.gz PackageFileSize: 3.234 MiB