Package: clusterStab Version: 1.79.0 Command: chmod a+r clusterStab -R && E:\biocbuild\bbs-3.21-bioc\R\bin\R.exe CMD build --keep-empty-dirs --no-resave-data clusterStab StartedAt: 2025-02-20 17:58:29 -0500 (Thu, 20 Feb 2025) EndedAt: 2025-02-20 17:58:56 -0500 (Thu, 20 Feb 2025) EllapsedTime: 27.1 seconds RetCode: 0 Status: OK PackageFile: clusterStab_1.79.0.tar.gz PackageFileSize: 87.73 KiB