Package: clusterStab Version: 1.79.0 Command: rm -rf clusterStab.buildbin-libdir && mkdir clusterStab.buildbin-libdir && E:\biocbuild\bbs-3.21-bioc\R\bin\R.exe CMD INSTALL --build --library=clusterStab.buildbin-libdir clusterStab_1.79.0.tar.gz StartedAt: 2025-02-21 07:49:13 -0500 (Fri, 21 Feb 2025) EndedAt: 2025-02-21 07:49:31 -0500 (Fri, 21 Feb 2025) EllapsedTime: 17.9 seconds RetCode: 0 Status: OK PackageFile: clusterStab_1.79.0.zip PackageFileSize: 247.6 KiB