Package: clusterStab Version: 1.79.0 Command: /home/biocbuild/bbs-3.21-bioc/R/bin/R CMD check --install=check:clusterStab.install-out.txt --library=/home/biocbuild/bbs-3.21-bioc/R/site-library --timings clusterStab_1.79.0.tar.gz StartedAt: 2025-02-20 20:52:57 -0500 (Thu, 20 Feb 2025) EndedAt: 2025-02-20 20:53:27 -0500 (Thu, 20 Feb 2025) EllapsedTime: 30.0 seconds RetCode: 0 Status: OK CheckDir: clusterStab.Rcheck Warnings: 0