Package: clusterStab Version: 1.79.0 Command: /Library/Frameworks/R.framework/Resources/bin/R CMD build --keep-empty-dirs --no-resave-data clusterStab StartedAt: 2025-02-20 16:16:03 -0500 (Thu, 20 Feb 2025) EndedAt: 2025-02-20 16:16:22 -0500 (Thu, 20 Feb 2025) EllapsedTime: 19.6 seconds RetCode: 0 Status: OK PackageFile: clusterStab_1.79.0.tar.gz PackageFileSize: 185 KiB