Package: clusterStab Version: 1.79.0 Command: /Library/Frameworks/R.framework/Resources/bin/R CMD INSTALL clusterStab StartedAt: 2025-02-20 15:01:26 -0500 (Thu, 20 Feb 2025) EndedAt: 2025-02-20 15:01:31 -0500 (Thu, 20 Feb 2025) EllapsedTime: 4.8 seconds RetCode: 0 Status: OK