Package: clusterStab Version: 1.79.0 Command: rm -rf clusterStab.buildbin-libdir && mkdir clusterStab.buildbin-libdir && /Users/biocbuild/BBS/utils/build-universal.sh clusterStab_1.79.0.tar.gz /Library/Frameworks/R.framework/Resources/bin/R clusterStab.buildbin-libdir StartedAt: 2025-02-20 22:14:15 -0500 (Thu, 20 Feb 2025) EndedAt: 2025-02-20 22:14:18 -0500 (Thu, 20 Feb 2025) EllapsedTime: 3.1 seconds RetCode: 0 Status: OK PackageFile: clusterStab_1.79.0.tgz PackageFileSize: 342.5 KiB