Package: clusterSeq Version: 1.31.0 Command: /home/biocbuild/bbs-3.21-bioc/R/bin/R CMD build --keep-empty-dirs --no-resave-data clusterSeq StartedAt: 2025-02-19 16:41:24 -0500 (Wed, 19 Feb 2025) EndedAt: 2025-02-19 16:42:18 -0500 (Wed, 19 Feb 2025) EllapsedTime: 54.1 seconds RetCode: 0 Status: OK PackageFile: clusterSeq_1.31.0.tar.gz PackageFileSize: 1.009 MiB