Package: clusterProfiler Version: 4.15.1 Command: E:\biocbuild\bbs-3.21-bioc\R\bin\R.exe CMD INSTALL clusterProfiler StartedAt: 2025-02-20 15:56:02 -0500 (Thu, 20 Feb 2025) EndedAt: 2025-02-20 15:58:24 -0500 (Thu, 20 Feb 2025) EllapsedTime: 142.6 seconds RetCode: 0 Status: OK