Package: clusterProfiler Version: 4.15.1 Command: E:\biocbuild\bbs-3.21-bioc\R\bin\R.exe CMD check --no-multiarch --install=check:clusterProfiler.install-out.txt --library=E:\biocbuild\bbs-3.21-bioc\R\library --no-vignettes --timings clusterProfiler_4.15.1.tar.gz StartedAt: 2025-02-20 23:56:55 -0500 (Thu, 20 Feb 2025) EndedAt: 2025-02-21 00:01:02 -0500 (Fri, 21 Feb 2025) EllapsedTime: 247.1 seconds RetCode: 0 Status: OK CheckDir: clusterProfiler.Rcheck Warnings: 0