Package: clusterProfiler Version: 4.15.1 Command: rm -rf clusterProfiler.buildbin-libdir && mkdir clusterProfiler.buildbin-libdir && E:\biocbuild\bbs-3.21-bioc\R\bin\R.exe CMD INSTALL --build --library=clusterProfiler.buildbin-libdir clusterProfiler_4.15.1.tar.gz StartedAt: 2025-02-21 07:49:00 -0500 (Fri, 21 Feb 2025) EndedAt: 2025-02-21 07:51:22 -0500 (Fri, 21 Feb 2025) EllapsedTime: 142.6 seconds RetCode: 0 Status: OK PackageFile: clusterProfiler_4.15.1.zip PackageFileSize: 1.019 MiB