Package: clusterProfiler Version: 4.15.1 Command: rm -rf clusterProfiler.buildbin-libdir && mkdir clusterProfiler.buildbin-libdir && /Users/biocbuild/BBS/utils/build-universal.sh clusterProfiler_4.15.1.tar.gz /Library/Frameworks/R.framework/Resources/bin/R clusterProfiler.buildbin-libdir StartedAt: 2025-02-21 00:24:31 -0500 (Fri, 21 Feb 2025) EndedAt: 2025-02-21 00:25:06 -0500 (Fri, 21 Feb 2025) EllapsedTime: 35.8 seconds RetCode: 0 Status: OK PackageFile: clusterProfiler_4.15.1.tgz PackageFileSize: 1.015 MiB