Package: clusterProfiler Version: 4.15.1 Command: /Library/Frameworks/R.framework/Resources/bin/R CMD INSTALL clusterProfiler StartedAt: 2025-02-20 15:20:29 -0500 (Thu, 20 Feb 2025) EndedAt: 2025-02-20 15:20:38 -0500 (Thu, 20 Feb 2025) EllapsedTime: 9.9 seconds RetCode: 0 Status: OK