Package: clusterExperiment Version: 2.27.0 Command: E:\biocbuild\bbs-3.21-bioc\R\bin\R.exe CMD check --no-multiarch --install=check:clusterExperiment.install-out.txt --library=E:\biocbuild\bbs-3.21-bioc\R\library --no-vignettes --timings clusterExperiment_2.27.0.tar.gz StartedAt: 2025-02-19 23:44:41 -0500 (Wed, 19 Feb 2025) EndedAt: 2025-02-20 00:00:34 -0500 (Thu, 20 Feb 2025) EllapsedTime: 953.5 seconds RetCode: 0 Status: WARNINGS CheckDir: clusterExperiment.Rcheck Warnings: 2