Package: clusterExperiment Version: 2.27.0 Command: /Library/Frameworks/R.framework/Resources/bin/R CMD build --keep-empty-dirs --no-resave-data clusterExperiment StartedAt: 2025-02-19 16:15:49 -0500 (Wed, 19 Feb 2025) EndedAt: 2025-02-19 16:21:26 -0500 (Wed, 19 Feb 2025) EllapsedTime: 337.3 seconds RetCode: 0 Status: OK PackageFile: clusterExperiment_2.27.0.tar.gz PackageFileSize: 12.07 MiB