Package: clustSIGNAL Version: 1.0.0 Command: /home/biocbuild/R/R/bin/R CMD INSTALL clustSIGNAL StartedAt: 2025-10-06 21:15:16 -0000 (Mon, 06 Oct 2025) EndedAt: 2025-10-06 21:15:56 -0000 (Mon, 06 Oct 2025) EllapsedTime: 40.7 seconds RetCode: 0 Status: OK