Package: clustSIGNAL Version: 1.0.0 Command: /home/biocbuild/R/R/bin/R CMD build --keep-empty-dirs --no-resave-data clustSIGNAL StartedAt: 2025-10-06 23:43:28 -0000 (Mon, 06 Oct 2025) EndedAt: 2025-10-06 23:45:42 -0000 (Mon, 06 Oct 2025) EllapsedTime: 134.0 seconds RetCode: 0 Status: OK PackageFile: clustSIGNAL_1.0.0.tar.gz PackageFileSize: 4.555 MiB