Package: clustComp Version: 1.35.0 Command: E:\biocbuild\bbs-3.21-bioc\R\bin\R.exe CMD check --no-multiarch --install=check:clustComp.install-out.txt --library=E:\biocbuild\bbs-3.21-bioc\R\library --no-vignettes --timings clustComp_1.35.0.tar.gz StartedAt: 2025-02-20 23:55:26 -0500 (Thu, 20 Feb 2025) EndedAt: 2025-02-20 23:55:56 -0500 (Thu, 20 Feb 2025) EllapsedTime: 30.0 seconds RetCode: 0 Status: OK CheckDir: clustComp.Rcheck Warnings: 0