Package: clustComp Version: 1.35.0 Command: chmod a+r clustComp -R && E:\biocbuild\bbs-3.21-bioc\R\bin\R.exe CMD build --keep-empty-dirs --no-resave-data clustComp StartedAt: 2025-02-20 17:57:46 -0500 (Thu, 20 Feb 2025) EndedAt: 2025-02-20 17:58:55 -0500 (Thu, 20 Feb 2025) EllapsedTime: 69.2 seconds RetCode: 0 Status: OK PackageFile: clustComp_1.35.0.tar.gz PackageFileSize: 798.4 KiB