Package: clustComp Version: 1.35.0 Command: /home/biocbuild/bbs-3.21-bioc/R/bin/R CMD INSTALL clustComp StartedAt: 2025-02-19 15:02:54 -0500 (Wed, 19 Feb 2025) EndedAt: 2025-02-19 15:03:02 -0500 (Wed, 19 Feb 2025) EllapsedTime: 7.6 seconds RetCode: 0 Status: OK